BEGIN:VCALENDAR
VERSION:2.0
PRODID:-//hacksw/handcal//NONSGML v1.0//EN
CALSCALE:GREGORIAN
BEGIN:VEVENT
UID:69e6ef3df10bb
LOCATION:Alte Schule Höchst\, Alemannensaal
URL;VALUE=URI:https://musikschule.lustenau.at/de/events/klassenabend-caecilia-maria-weber-klavier
SUMMARY:Klassenabend Cäcilia Maria Weber - Klavier\, Alte Schule Höchst\, Alemannensaal
DTSTART:20260430T190000
DTEND:20260430T000000
DTSTAMP:20260421T053005
END:VEVENT
END:VCALENDAR
